BEGIN:VCALENDAR
VERSION:2.0
PRODID:-//eventon.com NONSGML v1.0//EN
CALSCALE:GREGORIAN
METHOD:PUBLISH
BEGIN:VEVENT
UID:69e737ee7edf0
DTSTAMP:20260421T084014Z
DTSTART:20260322T073000Z
DTEND:20260322T225900Z
LOCATION:
SUMMARY:Charette Group<br />From Sapphire Princess To Fiumicino Airport
DESCRIPTION:Driver will meet you just under the Sapphire Princess boarding 
 your lastname and help you with your luggage\,  and drop-off at Fiumicino A
 irport. DOOR-TO-DOOR service! Your driver will meet you right on the pier n
 ext to your ship holding a sign with your name in the reservation. You do N
 OT[..]\nhttps://www.civitavecchiaport.org/events/charette-group/
URL:https://www.civitavecchiaport.org/events/charette-group/
END:VEVENT
END:VCALENDAR